BEGIN:VCALENDAR
VERSION:2.0
PRODID:-//eventon.com NONSGML v1.0//EN
CALSCALE:GREGORIAN
METHOD:PUBLISH
BEGIN:VEVENT
UID:69e746125dc3a
DTSTAMP:20260421T094034Z
DTSTART:20251211T003000Z
DTEND:20251211T023000Z
LOCATION:
SUMMARY:Peeples Impact: Zumba Fitness + Step Aerobics Class
DESCRIPTION:Peeples Impact: Zumba Fitness + Step Aerobics Class\nhttps://ww
 w.hanoversaustin.com/events/peeples-impact-zumba-fitness-step-aerobics-clas
 s-2/
URL:https://www.hanoversaustin.com/events/peeples-impact-zumba-fitness-step-aerobics-class-2/
END:VEVENT
END:VCALENDAR