BEGIN:VCALENDAR
VERSION:2.0
PRODID:-//eventon.com NONSGML v1.0//EN
CALSCALE:GREGORIAN
METHOD:PUBLISH
BEGIN:VEVENT
UID:69e74744dc68b
DTSTAMP:20260421T094540Z
DTSTART:20241209T000000Z
DTEND:20241209T050000Z
LOCATION:
SUMMARY:Hanovers Open Play Volleyball
DESCRIPTION:Hanovers Open Play Volleyball\nhttps://www.hanoversaustin.com/e
 vents/hanovers-open-play-volleyball-170/
URL:https://www.hanoversaustin.com/events/hanovers-open-play-volleyball-170/
END:VEVENT
END:VCALENDAR