BEGIN:VCALENDAR
VERSION:2.0
PRODID:-//eventon.com NONSGML v1.0//EN
CALSCALE:GREGORIAN
METHOD:PUBLISH
BEGIN:VEVENT
UID:69e89ec5d9901
DTSTAMP:20260422T101117Z
DTSTART:20240514T000000Z
DTEND:20240514T020000Z
LOCATION:
SUMMARY:A Vegas Mystery Drag Bingo
DESCRIPTION:A Vegas Mystery Drag Bingo\nhttps://www.hanoversaustin.com/even
 ts/a-vegas-mystery-drag-bingo/
URL:https://www.hanoversaustin.com/events/a-vegas-mystery-drag-bingo/
END:VEVENT
END:VCALENDAR